BEGIN:VCALENDAR
VERSION:2.0
PRODID:-//St. Bernadette Educational Services Lagos Nigeria - ECPv6.15.20//NONSGML v1.0//EN
CALSCALE:GREGORIAN
METHOD:PUBLISH
X-ORIGINAL-URL:https://stbeslagos.org
X-WR-CALDESC:Events for St. Bernadette Educational Services Lagos Nigeria
REFRESH-INTERVAL;VALUE=DURATION:PT1H
X-Robots-Tag:noindex
X-PUBLISHED-TTL:PT1H
BEGIN:VTIMEZONE
TZID:UTC
BEGIN:STANDARD
TZOFFSETFROM:+0000
TZOFFSETTO:+0000
TZNAME:UTC
DTSTART:20150101T000000
END:STANDARD
END:VTIMEZONE
BEGIN:VEVENT
DTSTART;VALUE=DATE:20170217
DTEND;VALUE=DATE:20170218
DTSTAMP:20260420T022446
CREATED:20210305T092719Z
LAST-MODIFIED:20210305T092719Z
UID:4116-1487289600-1487375999@stbeslagos.org
SUMMARY:SBS Open Day\, (Ipaja)/Open Day/ Parent Forum (Akoka)/ Open Day (DPA)
DESCRIPTION:
URL:https://stbeslagos.org/event/sbs-open-day-ipaja-open-day-parent-forum-akoka-open-day-dpa
LOCATION:St. Bernadette School Ipaja\, 3rd Avenue\, 32 Road Gowon Estate\, Ipaja\, Lagos\, Nigeria
CATEGORIES:School Event
ORGANIZER;CN="St. Bernadette School Ipaja":MAILTO:contact@stbes.org
END:VEVENT
BEGIN:VEVENT
DTSTART;VALUE=DATE:20170213
DTEND;VALUE=DATE:20170214
DTSTAMP:20260420T022446
CREATED:20210305T092718Z
LAST-MODIFIED:20210305T092718Z
UID:4113-1486944000-1487030399@stbeslagos.org
SUMMARY:Feast Day
DESCRIPTION:
URL:https://stbeslagos.org/event/feast-day
LOCATION:St. Bernadette School Ipaja\, 3rd Avenue\, 32 Road Gowon Estate\, Ipaja\, Lagos\, Nigeria
CATEGORIES:School Event
ORGANIZER;CN="St. Bernadette School Ipaja":MAILTO:contact@stbes.org
END:VEVENT
BEGIN:VEVENT
DTSTART;VALUE=DATE:20170211
DTEND;VALUE=DATE:20170212
DTSTAMP:20260420T022446
CREATED:20210305T092718Z
LAST-MODIFIED:20210305T092718Z
UID:4114-1486771200-1486857599@stbeslagos.org
SUMMARY:Speech & Prize Giving Day
DESCRIPTION:
URL:https://stbeslagos.org/event/speech-prize-giving-day
LOCATION:Doregos Private Academy\, Bernadino Doregos Street Off BO/BQ Street\, FHA Estate\, Akinogun\, Ipaja\, Lagos\, Nigeria
CATEGORIES:School Event
ORGANIZER;CN="Doregos Private Academy":MAILTO:dpa@stbes.org
END:VEVENT
BEGIN:VEVENT
DTSTART;VALUE=DATE:20170209
DTEND;VALUE=DATE:20170210
DTSTAMP:20260420T022446
CREATED:20210305T092718Z
LAST-MODIFIED:20210305T092718Z
UID:4115-1486598400-1486684799@stbeslagos.org
SUMMARY:2017 Basketball Finals
DESCRIPTION:
URL:https://stbeslagos.org/event/2017-basketball-finals
LOCATION:Doregos Private Academy\, Bernadino Doregos Street Off BO/BQ Street\, FHA Estate\, Akinogun\, Ipaja\, Lagos\, Nigeria
CATEGORIES:School Event
ORGANIZER;CN="Doregos Private Academy":MAILTO:dpa@stbes.org
END:VEVENT
BEGIN:VEVENT
DTSTART;VALUE=DATE:20170113
DTEND;VALUE=DATE:20170114
DTSTAMP:20260420T022446
CREATED:20210305T092848Z
LAST-MODIFIED:20210305T092848Z
UID:4145-1484265600-1484351999@stbeslagos.org
SUMMARY:SBS Akoka Graduation Ceremony
DESCRIPTION:
URL:https://stbeslagos.org/event/sbs-akoka-graduation-ceremony
LOCATION:St. Bernadette School Akoka\, 73\, Community Road Pako B/Stop\, Akoka\, Lagos\, Nigeria
CATEGORIES:School Event
ORGANIZER;CN="St. Bernadette School Akoka":MAILTO:sbs.akoka@stbes.org
END:VEVENT
BEGIN:VEVENT
DTSTART;VALUE=DATE:20161216
DTEND;VALUE=DATE:20161217
DTSTAMP:20260420T022446
CREATED:20210305T092703Z
LAST-MODIFIED:20210305T092703Z
UID:4110-1481846400-1481932799@stbeslagos.org
SUMMARY:Vacation
DESCRIPTION:
URL:https://stbeslagos.org/event/vacation
LOCATION:Lagos
CATEGORIES:School Event
END:VEVENT
BEGIN:VEVENT
DTSTART;VALUE=DATE:20161215
DTEND;VALUE=DATE:20161216
DTSTAMP:20260420T022446
CREATED:20210305T092704Z
LAST-MODIFIED:20210305T092704Z
UID:4112-1481760000-1481846399@stbeslagos.org
SUMMARY:SBS Christmas Party
DESCRIPTION:
URL:https://stbeslagos.org/event/sbs-christmas-party
LOCATION:St. Bernadette School Ipaja\, 3rd Avenue\, 32 Road Gowon Estate\, Ipaja\, Lagos\, Nigeria
CATEGORIES:School Event
ORGANIZER;CN="St. Bernadette School Ipaja":MAILTO:contact@stbes.org
END:VEVENT
BEGIN:VEVENT
DTSTART;VALUE=DATE:20161215
DTEND;VALUE=DATE:20161216
DTSTAMP:20260420T022446
CREATED:20210305T092703Z
LAST-MODIFIED:20210305T092704Z
UID:4109-1481760000-1481846399@stbeslagos.org
SUMMARY:DPA Christmas Party
DESCRIPTION:
URL:https://stbeslagos.org/event/dpa-christmas-party
LOCATION:Doregos Private Academy\, Bernadino Doregos Street Off BO/BQ Street\, FHA Estate\, Akinogun\, Ipaja\, Lagos\, Nigeria
CATEGORIES:School Event
ORGANIZER;CN="Doregos Private Academy":MAILTO:dpa@stbes.org
END:VEVENT
BEGIN:VEVENT
DTSTART;VALUE=DATE:20161214
DTEND;VALUE=DATE:20161215
DTSTAMP:20260420T022446
CREATED:20210305T092659Z
LAST-MODIFIED:20210305T092659Z
UID:4106-1481673600-1481759999@stbeslagos.org
SUMMARY:DPA Christmas Carol
DESCRIPTION:
URL:https://stbeslagos.org/event/dpa-christmas-carol
LOCATION:Doregos Private Academy\, Bernadino Doregos Street Off BO/BQ Street\, FHA Estate\, Akinogun\, Ipaja\, Lagos\, Nigeria
CATEGORIES:School Event
ORGANIZER;CN="Doregos Private Academy":MAILTO:dpa@stbes.org
END:VEVENT
BEGIN:VEVENT
DTSTART;VALUE=DATE:20161212
DTEND;VALUE=DATE:20161213
DTSTAMP:20260420T022446
CREATED:20210305T092659Z
LAST-MODIFIED:20210305T092659Z
UID:4107-1481500800-1481587199@stbeslagos.org
SUMMARY:SBS Ipaja Christmas Rally
DESCRIPTION:
URL:https://stbeslagos.org/event/sbs-ipaja-christmas-rally
LOCATION:St. Bernadette School Ipaja\, 3rd Avenue\, 32 Road Gowon Estate\, Ipaja\, Lagos\, Nigeria
CATEGORIES:School Event
ORGANIZER;CN="St. Bernadette School Ipaja":MAILTO:contact@stbes.org
END:VEVENT
BEGIN:VEVENT
DTSTART;VALUE=DATE:20161209
DTEND;VALUE=DATE:20161210
DTSTAMP:20260420T022446
CREATED:20210305T092703Z
LAST-MODIFIED:20210305T092703Z
UID:4108-1481241600-1481327999@stbeslagos.org
SUMMARY:SBS Career Day Akoka/Ipaja
DESCRIPTION:
URL:https://stbeslagos.org/event/sbs-career-day-akoka-ipaja
LOCATION:St. Bernadette School Ipaja\, 3rd Avenue\, 32 Road Gowon Estate\, Ipaja\, Lagos\, Nigeria
CATEGORIES:School Event
ORGANIZER;CN="St. Bernadette School Ipaja":MAILTO:contact@stbes.org
END:VEVENT
BEGIN:VEVENT
DTSTART;VALUE=DATE:20161124
DTEND;VALUE=DATE:20161125
DTSTAMP:20260420T022446
CREATED:20210305T092658Z
LAST-MODIFIED:20210305T092658Z
UID:4103-1479945600-1480031999@stbeslagos.org
SUMMARY:Cultural Day
DESCRIPTION:
URL:https://stbeslagos.org/event/cultural-day
LOCATION:St. Bernadette School Ipaja\, 3rd Avenue\, 32 Road Gowon Estate\, Ipaja\, Lagos\, Nigeria
CATEGORIES:School Event
ORGANIZER;CN="St. Bernadette School Ipaja":MAILTO:contact@stbes.org
END:VEVENT
BEGIN:VEVENT
DTSTART;VALUE=DATE:20161119
DTEND;VALUE=DATE:20161120
DTSTAMP:20260420T022446
CREATED:20210305T092658Z
LAST-MODIFIED:20210305T092658Z
UID:4104-1479513600-1479599999@stbeslagos.org
SUMMARY:DPA Basketball Competition quarter-finals
DESCRIPTION:
URL:https://stbeslagos.org/event/dpa-basketball-competition-quarter-finals
LOCATION:Doregos Private Academy\, Bernadino Doregos Street Off BO/BQ Street\, FHA Estate\, Akinogun\, Ipaja\, Lagos\, Nigeria
CATEGORIES:School Event
ORGANIZER;CN="Doregos Private Academy":MAILTO:dpa@stbes.org
END:VEVENT
BEGIN:VEVENT
DTSTART;VALUE=DATE:20161112
DTEND;VALUE=DATE:20161113
DTSTAMP:20260420T022446
CREATED:20210305T092658Z
LAST-MODIFIED:20210305T092658Z
UID:4105-1478908800-1478995199@stbeslagos.org
SUMMARY:Entrepreneurial Fair
DESCRIPTION:
URL:https://stbeslagos.org/event/entrepreneurial-fair
LOCATION:St. Bernadette School Ipaja\, 3rd Avenue\, 32 Road Gowon Estate\, Ipaja\, Lagos\, Nigeria
CATEGORIES:School Event
ORGANIZER;CN="St. Bernadette School Ipaja":MAILTO:contact@stbes.org
END:VEVENT
END:VCALENDAR