BEGIN:VCALENDAR
VERSION:2.0
PRODID:-//St. Bernadette Educational Services Lagos Nigeria - ECPv6.15.20//NONSGML v1.0//EN
CALSCALE:GREGORIAN
METHOD:PUBLISH
X-WR-CALNAME:St. Bernadette Educational Services Lagos Nigeria
X-ORIGINAL-URL:https://stbeslagos.org
X-WR-CALDESC:Events for St. Bernadette Educational Services Lagos Nigeria
REFRESH-INTERVAL;VALUE=DURATION:PT1H
X-Robots-Tag:noindex
X-PUBLISHED-TTL:PT1H
BEGIN:VTIMEZONE
TZID:UTC
BEGIN:STANDARD
TZOFFSETFROM:+0000
TZOFFSETTO:+0000
TZNAME:UTC
DTSTART:20160101T000000
END:STANDARD
END:VTIMEZONE
BEGIN:VEVENT
DTSTART;VALUE=DATE:20171006
DTEND;VALUE=DATE:20171007
DTSTAMP:20260419T212442
CREATED:20210305T092934Z
LAST-MODIFIED:20210305T092934Z
UID:4162-1507248000-1507334399@stbeslagos.org
SUMMARY:Year Six Parent Forum
DESCRIPTION:This is a day we discuss admission Runs with our parents. We discuss what parents need to put into consideration when making Secondary School choices for their wards.
URL:https://stbeslagos.org/event/year-six-parent-forum
LOCATION:St. Bernadette School Ipaja\, 3rd Avenue\, 32 Road Gowon Estate\, Ipaja\, Lagos\, Nigeria
CATEGORIES:School Event
ORGANIZER;CN="St. Bernadette School Ipaja":MAILTO:contact@stbes.org
END:VEVENT
BEGIN:VEVENT
DTSTART;VALUE=DATE:20171006
DTEND;VALUE=DATE:20171007
DTSTAMP:20260419T212442
CREATED:20210305T092919Z
LAST-MODIFIED:20210305T092919Z
UID:4156-1507248000-1507334399@stbeslagos.org
SUMMARY:Year 6 Parent Forum
DESCRIPTION:This is a day we discuss Admission Runs with our parents.Independence Day Kiddies Funfair\,St. Bernadette School Ipaja\,St. Bernadette School Ipaja\,2017-10-01\,\,2017-10-01\,\,TRUE\,School Event\,\,+234 908 202 8466\,http://stbes.org\,FALSE\,FALSE\,It’s a time the kids unwind with games
URL:https://stbeslagos.org/event/year-6-parent-forum
LOCATION:St. Bernadette School Ipaja\, 3rd Avenue\, 32 Road Gowon Estate\, Ipaja\, Lagos\, Nigeria
CATEGORIES:School Event
ORGANIZER;CN="St. Bernadette School Ipaja":MAILTO:contact@stbes.org
END:VEVENT
BEGIN:VEVENT
DTSTART;VALUE=DATE:20170828
DTEND;VALUE=DATE:20170829
DTSTAMP:20260419T212442
CREATED:20210305T092903Z
LAST-MODIFIED:20210305T092903Z
UID:4150-1503878400-1503964799@stbeslagos.org
SUMMARY:Songhai field trip (SBS\, DPA)
DESCRIPTION:
URL:https://stbeslagos.org/event/songhai-field-trip-sbs-dpa
LOCATION:Doregos Private Academy\, Bernadino Doregos Street Off BO/BQ Street\, FHA Estate\, Akinogun\, Ipaja\, Lagos\, Nigeria
CATEGORIES:School Event
ORGANIZER;CN="Doregos Private Academy":MAILTO:dpa@stbes.org
END:VEVENT
BEGIN:VEVENT
DTSTART;VALUE=DATE:20170825
DTEND;VALUE=DATE:20170826
DTSTAMP:20260419T212442
CREATED:20210305T092904Z
LAST-MODIFIED:20210317T051048Z
UID:4151-1503619200-1503705599@stbeslagos.org
SUMMARY:Sea School leadership Training Programme (DPA)
DESCRIPTION:
URL:https://stbeslagos.org/event/sea-school-leadership-training-programme-dpa
LOCATION:Doregos Private Academy\, Bernadino Doregos Street Off BO/BQ Street\, FHA Estate\, Akinogun\, Ipaja\, Lagos\, Nigeria
CATEGORIES:School Event
ORGANIZER;CN="Doregos Private Academy":MAILTO:dpa@stbes.org
END:VEVENT
BEGIN:VEVENT
DTSTART;VALUE=DATE:20170725
DTEND;VALUE=DATE:20170726
DTSTAMP:20260419T212442
CREATED:20210305T092903Z
LAST-MODIFIED:20210305T092903Z
UID:4148-1500940800-1501027199@stbeslagos.org
SUMMARY:DPA Prom
DESCRIPTION:
URL:https://stbeslagos.org/event/dpa-prom
LOCATION:Doregos Private Academy\, Bernadino Doregos Street Off BO/BQ Street\, FHA Estate\, Akinogun\, Ipaja\, Lagos\, Nigeria
CATEGORIES:School Event
ORGANIZER;CN="Doregos Private Academy":MAILTO:dpa@stbes.org
END:VEVENT
BEGIN:VEVENT
DTSTART;VALUE=DATE:20170724
DTEND;VALUE=DATE:20170725
DTSTAMP:20260419T212443
CREATED:20210305T092903Z
LAST-MODIFIED:20210305T092903Z
UID:4149-1500854400-1500940799@stbeslagos.org
SUMMARY:Extension Classes Start
DESCRIPTION:
URL:https://stbeslagos.org/event/extension-classes-start
LOCATION:Doregos Private Academy\, Bernadino Doregos Street Off BO/BQ Street\, FHA Estate\, Akinogun\, Ipaja\, Lagos\, Nigeria
CATEGORIES:School Event
ORGANIZER;CN="Doregos Private Academy":MAILTO:dpa@stbes.org
END:VEVENT
BEGIN:VEVENT
DTSTART;VALUE=DATE:20170723
DTEND;VALUE=DATE:20170724
DTSTAMP:20260419T212443
CREATED:20210305T092849Z
LAST-MODIFIED:20210305T092849Z
UID:4147-1500768000-1500854399@stbeslagos.org
SUMMARY:DPA Valedictory Service
DESCRIPTION:
URL:https://stbeslagos.org/event/dpa-valedictory-service
LOCATION:Doregos Private Academy\, Bernadino Doregos Street Off BO/BQ Street\, FHA Estate\, Akinogun\, Ipaja\, Lagos\, Nigeria
CATEGORIES:School Event
ORGANIZER;CN="Doregos Private Academy":MAILTO:dpa@stbes.org
END:VEVENT
BEGIN:VEVENT
DTSTART;VALUE=DATE:20170714
DTEND;VALUE=DATE:20170715
DTSTAMP:20260419T212443
CREATED:20210305T092849Z
LAST-MODIFIED:20210305T092849Z
UID:4146-1499990400-1500076799@stbeslagos.org
SUMMARY:Vacation
DESCRIPTION:
URL:https://stbeslagos.org/event/vacation-3
LOCATION:Lagos
CATEGORIES:School Event
END:VEVENT
BEGIN:VEVENT
DTSTART;VALUE=DATE:20170711
DTEND;VALUE=DATE:20170712
DTSTAMP:20260419T212443
CREATED:20210305T092848Z
LAST-MODIFIED:20210305T092848Z
UID:4143-1499731200-1499817599@stbeslagos.org
SUMMARY:SBS Ipaja Valedictory Service
DESCRIPTION:
URL:https://stbeslagos.org/event/sbs-ipaja-valedictory-service
LOCATION:St. Bernadette School Ipaja\, 3rd Avenue\, 32 Road Gowon Estate\, Ipaja\, Lagos\, Nigeria
CATEGORIES:School Event
ORGANIZER;CN="St. Bernadette School Ipaja":MAILTO:contact@stbes.org
END:VEVENT
BEGIN:VEVENT
DTSTART;VALUE=DATE:20170710
DTEND;VALUE=DATE:20170711
DTSTAMP:20260419T212443
CREATED:20210305T092848Z
LAST-MODIFIED:20210305T092848Z
UID:4144-1499644800-1499731199@stbeslagos.org
SUMMARY:SBS Year Six Fun Day
DESCRIPTION:
URL:https://stbeslagos.org/event/sbs-year-six-fun-day
LOCATION:St. Bernadette School Ipaja\, 3rd Avenue\, 32 Road Gowon Estate\, Ipaja\, Lagos\, Nigeria
CATEGORIES:School Event
ORGANIZER;CN="St. Bernadette School Ipaja":MAILTO:contact@stbes.org
END:VEVENT
BEGIN:VEVENT
DTSTART;VALUE=DATE:20170707
DTEND;VALUE=DATE:20170708
DTSTAMP:20260419T212443
CREATED:20210305T092834Z
LAST-MODIFIED:20210305T092834Z
UID:4142-1499385600-1499471999@stbeslagos.org
SUMMARY:DPA 3rd Entrance Examination
DESCRIPTION:
URL:https://stbeslagos.org/event/dpa-3rd-entrance-examination
LOCATION:Doregos Private Academy\, Bernadino Doregos Street Off BO/BQ Street\, FHA Estate\, Akinogun\, Ipaja\, Lagos\, Nigeria
CATEGORIES:School Event
ORGANIZER;CN="Doregos Private Academy":MAILTO:dpa@stbes.org
END:VEVENT
BEGIN:VEVENT
DTSTART;VALUE=DATE:20170626
DTEND;VALUE=DATE:20170627
DTSTAMP:20260419T212443
CREATED:20210305T092834Z
LAST-MODIFIED:20210305T092834Z
UID:4141-1498435200-1498521599@stbeslagos.org
SUMMARY:Examination Starts (DPA\, SBS)
DESCRIPTION:
URL:https://stbeslagos.org/event/examination-starts-dpa-sbs
LOCATION:Doregos Private Academy\, Bernadino Doregos Street Off BO/BQ Street\, FHA Estate\, Akinogun\, Ipaja\, Lagos\, Nigeria
CATEGORIES:School Event
ORGANIZER;CN="Doregos Private Academy":MAILTO:dpa@stbes.org
END:VEVENT
BEGIN:VEVENT
DTSTART;VALUE=DATE:20170623
DTEND;VALUE=DATE:20170624
DTSTAMP:20260419T212443
CREATED:20210305T092833Z
LAST-MODIFIED:20210305T092833Z
UID:4140-1498176000-1498262399@stbeslagos.org
SUMMARY:SBS De-Worming Exercise
DESCRIPTION:
URL:https://stbeslagos.org/event/sbs-de-worming-exercise
LOCATION:St. Bernadette School Ipaja\, 3rd Avenue\, 32 Road Gowon Estate\, Ipaja\, Lagos\, Nigeria
CATEGORIES:School Event
ORGANIZER;CN="St. Bernadette School Ipaja":MAILTO:contact@stbes.org
END:VEVENT
BEGIN:VEVENT
DTSTART;VALUE=DATE:20170620
DTEND;VALUE=DATE:20170624
DTSTAMP:20260419T212443
CREATED:20210305T092833Z
LAST-MODIFIED:20210305T092833Z
UID:4139-1497916800-1498262399@stbeslagos.org
SUMMARY:Book Fair at Doregos Private Academy\, Ipaja
DESCRIPTION:Book Fair at Doregos Private Academy\, Ipaja\, Lagos.\nDate: 20th – 23rd of June\, 2017
URL:https://stbeslagos.org/event/book-fair-at-doregos-private-academy-ipaja
LOCATION:Doregos Private Academy\, Bernadino Doregos Street Off BO/BQ Street\, FHA Estate\, Akinogun\, Ipaja\, Lagos\, Nigeria
CATEGORIES:School Event
ORGANIZER;CN="Doregos Private Academy":MAILTO:dpa@stbes.org
END:VEVENT
BEGIN:VEVENT
DTSTART;VALUE=DATE:20170615
DTEND;VALUE=DATE:20170616
DTSTAMP:20260419T212443
CREATED:20210305T092833Z
LAST-MODIFIED:20210305T092833Z
UID:4138-1497484800-1497571199@stbeslagos.org
SUMMARY:SPELL A THON CONTEST (SBS)
DESCRIPTION:
URL:https://stbeslagos.org/event/spell-a-thon-contest-sbs
LOCATION:St. Bernadette School Ipaja\, 3rd Avenue\, 32 Road Gowon Estate\, Ipaja\, Lagos\, Nigeria
CATEGORIES:School Event
ORGANIZER;CN="St. Bernadette School Ipaja":MAILTO:contact@stbes.org
END:VEVENT
BEGIN:VEVENT
DTSTART;VALUE=DATE:20170614
DTEND;VALUE=DATE:20170615
DTSTAMP:20260419T212443
CREATED:20210305T092819Z
LAST-MODIFIED:20210305T092819Z
UID:4137-1497398400-1497484799@stbeslagos.org
SUMMARY:National/Cultural Day (Akoka)
DESCRIPTION:
URL:https://stbeslagos.org/event/national-cultural-day-akoka
LOCATION:St. Bernadette School Akoka\, 73\, Community Road Pako B/Stop\, Akoka\, Lagos\, Nigeria
CATEGORIES:School Event
ORGANIZER;CN="St. Bernadette School Akoka":MAILTO:sbs.akoka@stbes.org
END:VEVENT
BEGIN:VEVENT
DTSTART;VALUE=DATE:20170610
DTEND;VALUE=DATE:20170611
DTSTAMP:20260419T212443
CREATED:20210305T092819Z
LAST-MODIFIED:20210305T092819Z
UID:4136-1497052800-1497139199@stbeslagos.org
SUMMARY:Parents' Forum (DPA)
DESCRIPTION:
URL:https://stbeslagos.org/event/parents-forum-dpa
LOCATION:Doregos Private Academy\, Bernadino Doregos Street Off BO/BQ Street\, FHA Estate\, Akinogun\, Ipaja\, Lagos\, Nigeria
CATEGORIES:School Event
ORGANIZER;CN="Doregos Private Academy":MAILTO:dpa@stbes.org
END:VEVENT
BEGIN:VEVENT
DTSTART;VALUE=DATE:20170609
DTEND;VALUE=DATE:20170610
DTSTAMP:20260419T212443
CREATED:20210305T092818Z
LAST-MODIFIED:20210305T092818Z
UID:4135-1496966400-1497052799@stbeslagos.org
SUMMARY:Year One & Six Parents' Forum (Akoka)
DESCRIPTION:
URL:https://stbeslagos.org/event/year-one-six-parents-forum-akoka
LOCATION:St. Bernadette School Akoka\, 73\, Community Road Pako B/Stop\, Akoka\, Lagos\, Nigeria
CATEGORIES:School Event
ORGANIZER;CN="St. Bernadette School Akoka":MAILTO:sbs.akoka@stbes.org
END:VEVENT
BEGIN:VEVENT
DTSTART;VALUE=DATE:20170608
DTEND;VALUE=DATE:20170609
DTSTAMP:20260419T212443
CREATED:20210305T092818Z
LAST-MODIFIED:20210305T092818Z
UID:4134-1496880000-1496966399@stbeslagos.org
SUMMARY:Year One & Six  Parents' Forum (Ipaja)
DESCRIPTION:
URL:https://stbeslagos.org/event/year-one-six-parents-forum-ipaja
LOCATION:St. Bernadette School Ipaja\, 3rd Avenue\, 32 Road Gowon Estate\, Ipaja\, Lagos\, Nigeria
CATEGORIES:School Event
ORGANIZER;CN="St. Bernadette School Ipaja":MAILTO:contact@stbes.org
END:VEVENT
BEGIN:VEVENT
DTSTART;VALUE=DATE:20170529
DTEND;VALUE=DATE:20170530
DTSTAMP:20260419T212443
CREATED:20210305T092818Z
LAST-MODIFIED:20210305T092818Z
UID:4133-1496016000-1496102399@stbeslagos.org
SUMMARY:Mid-Term Break (SBS\, DPA)
DESCRIPTION:
URL:https://stbeslagos.org/event/mid-term-break-sbs-dpa
LOCATION:Doregos Private Academy\, Bernadino Doregos Street Off BO/BQ Street\, FHA Estate\, Akinogun\, Ipaja\, Lagos\, Nigeria
CATEGORIES:School Event
ORGANIZER;CN="Doregos Private Academy":MAILTO:dpa@stbes.org
END:VEVENT
BEGIN:VEVENT
DTSTART;VALUE=DATE:20170526
DTEND;VALUE=DATE:20170527
DTSTAMP:20260419T212443
CREATED:20210305T092804Z
LAST-MODIFIED:20210305T092804Z
UID:4131-1495756800-1495843199@stbeslagos.org
SUMMARY:DPA Open Day
DESCRIPTION:
URL:https://stbeslagos.org/event/dpa-open-day
LOCATION:Doregos Private Academy\, Bernadino Doregos Street Off BO/BQ Street\, FHA Estate\, Akinogun\, Ipaja\, Lagos\, Nigeria
CATEGORIES:School Event
ORGANIZER;CN="Doregos Private Academy":MAILTO:dpa@stbes.org
END:VEVENT
BEGIN:VEVENT
DTSTART;VALUE=DATE:20170526
DTEND;VALUE=DATE:20170527
DTSTAMP:20260419T212443
CREATED:20210305T092804Z
LAST-MODIFIED:20210305T092804Z
UID:4132-1495756800-1495843199@stbeslagos.org
SUMMARY:SBS Children's Day Celebration
DESCRIPTION:
URL:https://stbeslagos.org/event/sbs-childrens-day-celebration
LOCATION:St. Bernadette School Ipaja\, 3rd Avenue\, 32 Road Gowon Estate\, Ipaja\, Lagos\, Nigeria
CATEGORIES:School Event
ORGANIZER;CN="St. Bernadette School Ipaja":MAILTO:contact@stbes.org
END:VEVENT
BEGIN:VEVENT
DTSTART;VALUE=DATE:20170517
DTEND;VALUE=DATE:20170518
DTSTAMP:20260419T212443
CREATED:20210305T092803Z
LAST-MODIFIED:20210305T092803Z
UID:4128-1494979200-1495065599@stbeslagos.org
SUMMARY:Unified Test begins (DPA)
DESCRIPTION:
URL:https://stbeslagos.org/event/unified-test-begins-dpa
LOCATION:Doregos Private Academy\, Bernadino Doregos Street Off BO/BQ Street\, FHA Estate\, Akinogun\, Ipaja\, Lagos\, Nigeria
CATEGORIES:School Event
ORGANIZER;CN="Doregos Private Academy":MAILTO:dpa@stbes.org
END:VEVENT
BEGIN:VEVENT
DTSTART;VALUE=DATE:20170516
DTEND;VALUE=DATE:20170517
DTSTAMP:20260419T212443
CREATED:20210305T092803Z
LAST-MODIFIED:20210305T092803Z
UID:4130-1494892800-1494979199@stbeslagos.org
SUMMARY:Multiplication Mania (SBS Akoka\, Ipaja)
DESCRIPTION:
URL:https://stbeslagos.org/event/multiplication-mania-sbs-akoka-ipaja
LOCATION:St. Bernadette School Ipaja\, 3rd Avenue\, 32 Road Gowon Estate\, Ipaja\, Lagos\, Nigeria
CATEGORIES:School Event
ORGANIZER;CN="St. Bernadette School Ipaja":MAILTO:contact@stbes.org
END:VEVENT
BEGIN:VEVENT
DTSTART;VALUE=DATE:20170515
DTEND;VALUE=DATE:20170516
DTSTAMP:20260419T212443
CREATED:20210305T092803Z
LAST-MODIFIED:20210305T092803Z
UID:4129-1494806400-1494892799@stbeslagos.org
SUMMARY:Mothers Day
DESCRIPTION:
URL:https://stbeslagos.org/event/mothers-day
LOCATION:Lagos
CATEGORIES:School Event
END:VEVENT
BEGIN:VEVENT
DTSTART;VALUE=DATE:20170428
DTEND;VALUE=DATE:20170429
DTSTAMP:20260419T212443
CREATED:20210305T092749Z
LAST-MODIFIED:20210305T092749Z
UID:4127-1493337600-1493423999@stbeslagos.org
SUMMARY:D.P.A. Entrance Examination
DESCRIPTION:
URL:https://stbeslagos.org/event/d-p-a-entrance-examination
LOCATION:Doregos Private Academy\, Bernadino Doregos Street Off BO/BQ Street\, FHA Estate\, Akinogun\, Ipaja\, Lagos\, Nigeria
CATEGORIES:School Event
ORGANIZER;CN="Doregos Private Academy":MAILTO:dpa@stbes.org
END:VEVENT
BEGIN:VEVENT
DTSTART;VALUE=DATE:20170426
DTEND;VALUE=DATE:20170427
DTSTAMP:20260419T212443
CREATED:20210305T092749Z
LAST-MODIFIED:20210305T092749Z
UID:4125-1493164800-1493251199@stbeslagos.org
SUMMARY:SBS De -Worming Exercise (Akoka\,Ipaja)
DESCRIPTION:
URL:https://stbeslagos.org/event/sbs-de-worming-exercise-akokaipaja
LOCATION:St. Bernadette School Akoka\, 73\, Community Road Pako B/Stop\, Akoka\, Lagos\, Nigeria
CATEGORIES:School Event
ORGANIZER;CN="St. Bernadette School Akoka":MAILTO:sbs.akoka@stbes.org
END:VEVENT
BEGIN:VEVENT
DTSTART;VALUE=DATE:20170426
DTEND;VALUE=DATE:20170427
DTSTAMP:20260419T212443
CREATED:20210305T092749Z
LAST-MODIFIED:20210305T092749Z
UID:4126-1493164800-1493251199@stbeslagos.org
SUMMARY:Jets/Project Day (DPA)
DESCRIPTION:
URL:https://stbeslagos.org/event/jets-project-day-dpa
LOCATION:Doregos Private Academy\, Bernadino Doregos Street Off BO/BQ Street\, FHA Estate\, Akinogun\, Ipaja\, Lagos\, Nigeria
CATEGORIES:School Event
ORGANIZER;CN="Doregos Private Academy":MAILTO:dpa@stbes.org
END:VEVENT
BEGIN:VEVENT
DTSTART;VALUE=DATE:20170331
DTEND;VALUE=DATE:20170401
DTSTAMP:20260419T212443
CREATED:20210305T092748Z
LAST-MODIFIED:20210305T092748Z
UID:4124-1490918400-1491004799@stbeslagos.org
SUMMARY:Vacation/Guidiance and Counselling Session  (DPA)
DESCRIPTION:
URL:https://stbeslagos.org/event/vacation-guidiance-and-counselling-session-dpa
LOCATION:Doregos Private Academy\, Bernadino Doregos Street Off BO/BQ Street\, FHA Estate\, Akinogun\, Ipaja\, Lagos\, Nigeria
CATEGORIES:School Event
ORGANIZER;CN="Doregos Private Academy":MAILTO:dpa@stbes.org
END:VEVENT
BEGIN:VEVENT
DTSTART;VALUE=DATE:20170331
DTEND;VALUE=DATE:20170401
DTSTAMP:20260419T212443
CREATED:20210305T092748Z
LAST-MODIFIED:20210305T092748Z
UID:4123-1490918400-1491004799@stbeslagos.org
SUMMARY:Vacation
DESCRIPTION:
URL:https://stbeslagos.org/event/vacation-2
LOCATION:Lagos
CATEGORIES:School Event
END:VEVENT
END:VCALENDAR