BEGIN:VCALENDAR
VERSION:2.0
PRODID:-//St. Bernadette Educational Services Lagos Nigeria - ECPv6.15.20//NONSGML v1.0//EN
CALSCALE:GREGORIAN
METHOD:PUBLISH
X-WR-CALNAME:St. Bernadette Educational Services Lagos Nigeria
X-ORIGINAL-URL:https://stbeslagos.org
X-WR-CALDESC:Events for St. Bernadette Educational Services Lagos Nigeria
REFRESH-INTERVAL;VALUE=DURATION:PT1H
X-Robots-Tag:noindex
X-PUBLISHED-TTL:PT1H
BEGIN:VTIMEZONE
TZID:UTC
BEGIN:STANDARD
TZOFFSETFROM:+0000
TZOFFSETTO:+0000
TZNAME:UTC
DTSTART:20170101T000000
END:STANDARD
END:VTIMEZONE
BEGIN:VEVENT
DTSTART;VALUE=DATE:20180710
DTEND;VALUE=DATE:20180711
DTSTAMP:20260419T131955
CREATED:20210305T093248Z
LAST-MODIFIED:20210305T093248Z
UID:4223-1531180800-1531267199@stbeslagos.org
SUMMARY:ST BERNADETTE SCHOOL IPAJA GRADUATION CEREMONY
DESCRIPTION:
URL:https://stbeslagos.org/event/st-bernadette-school-ipaja-graduation-ceremony
LOCATION:St. Bernadette School Ipaja\, 3rd Avenue\, 32 Road Gowon Estate\, Ipaja\, Lagos\, Nigeria
CATEGORIES:School Event
ORGANIZER;CN="St. Bernadette School Ipaja":MAILTO:contact@stbes.org
END:VEVENT
BEGIN:VEVENT
DTSTART;VALUE=DATE:20180629
DTEND;VALUE=DATE:20180630
DTSTAMP:20260419T131955
CREATED:20210305T093205Z
LAST-MODIFIED:20210305T093205Z
UID:4212-1530230400-1530316799@stbeslagos.org
SUMMARY:3RD PROMOTIONAL EXAMINATION STARTS
DESCRIPTION:
URL:https://stbeslagos.org/event/3rd-promotional-examination-starts
LOCATION:Doregos Private Academy\, Bernadino Doregos Street Off BO/BQ Street\, FHA Estate\, Akinogun\, Ipaja\, Lagos\, Nigeria
CATEGORIES:School Event
ORGANIZER;CN="Doregos Private Academy":MAILTO:dpa@stbes.org
END:VEVENT
BEGIN:VEVENT
DTSTART;VALUE=DATE:20180622
DTEND;VALUE=DATE:20180623
DTSTAMP:20260419T131955
CREATED:20210305T093218Z
LAST-MODIFIED:20210305T093218Z
UID:4213-1529625600-1529711999@stbeslagos.org
SUMMARY:ST BERNADETTE SCHOOL IPAJA PARENTS' FORUM
DESCRIPTION:
URL:https://stbeslagos.org/event/st-bernadette-school-ipaja-parents-forum
LOCATION:St. Bernadette School Ipaja\, 3rd Avenue\, 32 Road Gowon Estate\, Ipaja\, Lagos\, Nigeria
CATEGORIES:School Event
ORGANIZER;CN="St. Bernadette School Ipaja":MAILTO:contact@stbes.org
END:VEVENT
BEGIN:VEVENT
DTSTART;VALUE=DATE:20180616
DTEND;VALUE=DATE:20180617
DTSTAMP:20260419T131955
CREATED:20210305T093218Z
LAST-MODIFIED:20210305T093218Z
UID:4214-1529107200-1529193599@stbeslagos.org
SUMMARY:DOREGOS PRIVATE ACADEMY PARENTS' FORUM
DESCRIPTION:
URL:https://stbeslagos.org/event/doregos-private-academy-parents-forum
LOCATION:Doregos Private Academy\, Bernadino Doregos Street Off BO/BQ Street\, FHA Estate\, Akinogun\, Ipaja\, Lagos\, Nigeria
CATEGORIES:School Event
ORGANIZER;CN="Doregos Private Academy":MAILTO:dpa@stbes.org
END:VEVENT
BEGIN:VEVENT
DTSTART;VALUE=DATE:20180615
DTEND;VALUE=DATE:20180616
DTSTAMP:20260419T131955
CREATED:20210305T093219Z
LAST-MODIFIED:20210317T051013Z
UID:4215-1529020800-1529107199@stbeslagos.org
SUMMARY:ST BERNADETTE SCHOOL AKOKA PARENTS' FORUM
DESCRIPTION:
URL:https://stbeslagos.org/event/st-bernadette-school-akoka-parents-forum
LOCATION:St. Bernadette School Akoka\, 73\, Community Road Pako B/Stop\, Akoka\, Lagos\, Nigeria
CATEGORIES:School Event
ORGANIZER;CN="St. Bernadette School Akoka":MAILTO:sbs.akoka@stbes.org
END:VEVENT
BEGIN:VEVENT
DTSTART;VALUE=DATE:20180607
DTEND;VALUE=DATE:20180608
DTSTAMP:20260419T131955
CREATED:20210305T093219Z
LAST-MODIFIED:20210305T093219Z
UID:4216-1528329600-1528415999@stbeslagos.org
SUMMARY:ST BERNADETTE SCHOOL YEAR 1 AND YEAR 6 PARENTS' FORUM
DESCRIPTION:
URL:https://stbeslagos.org/event/st-bernadette-school-year-1-and-year-6-parents-forum
LOCATION:St. Bernadette School Ipaja\, 3rd Avenue\, 32 Road Gowon Estate\, Ipaja\, Lagos\, Nigeria
CATEGORIES:School Event
ORGANIZER;CN="St. Bernadette School Ipaja":MAILTO:contact@stbes.org
END:VEVENT
BEGIN:VEVENT
DTSTART;VALUE=DATE:20180606
DTEND;VALUE=DATE:20180607
DTSTAMP:20260419T131955
CREATED:20210305T093219Z
LAST-MODIFIED:20210305T093219Z
UID:4217-1528243200-1528329599@stbeslagos.org
SUMMARY:DOREGOS PRIVATE ACADEMY BUSINESS DAY
DESCRIPTION:
URL:https://stbeslagos.org/event/doregos-private-academy-business-day
LOCATION:Doregos Private Academy\, Bernadino Doregos Street Off BO/BQ Street\, FHA Estate\, Akinogun\, Ipaja\, Lagos\, Nigeria
CATEGORIES:School Event
ORGANIZER;CN="Doregos Private Academy":MAILTO:dpa@stbes.org
END:VEVENT
BEGIN:VEVENT
DTSTART;VALUE=DATE:20180530
DTEND;VALUE=DATE:20180531
DTSTAMP:20260419T131955
CREATED:20210305T093149Z
LAST-MODIFIED:20210305T093149Z
UID:4206-1527638400-1527724799@stbeslagos.org
SUMMARY:DOREGOS PRIVATE ACADEMY TALENT HUNT
DESCRIPTION:
URL:https://stbeslagos.org/event/doregos-private-academy-talent-hunt
LOCATION:Doregos Private Academy\, Bernadino Doregos Street Off BO/BQ Street\, FHA Estate\, Akinogun\, Ipaja\, Lagos\, Nigeria
CATEGORIES:School Event
ORGANIZER;CN="Doregos Private Academy":MAILTO:dpa@stbes.org
END:VEVENT
BEGIN:VEVENT
DTSTART;VALUE=DATE:20180514
DTEND;VALUE=DATE:20180515
DTSTAMP:20260419T131955
CREATED:20210305T093203Z
LAST-MODIFIED:20210305T093203Z
UID:4208-1526256000-1526342399@stbeslagos.org
SUMMARY:ST. BERNADETTE SCHOOL\, IPAJA MULTIPLICATION MANIA
DESCRIPTION:
URL:https://stbeslagos.org/event/st-bernadette-school-ipaja-multiplication-mania
LOCATION:St. Bernadette School Ipaja\, 3rd Avenue\, 32 Road Gowon Estate\, Ipaja\, Lagos\, Nigeria
CATEGORIES:School Event
ORGANIZER;CN="St. Bernadette School Ipaja":MAILTO:contact@stbes.org
END:VEVENT
BEGIN:VEVENT
DTSTART;VALUE=DATE:20180514
DTEND;VALUE=DATE:20180515
DTSTAMP:20260419T131955
CREATED:20210305T093150Z
LAST-MODIFIED:20210305T093150Z
UID:4207-1526256000-1526342399@stbeslagos.org
SUMMARY:ST. BERNADETTE SCHOOL\, AKOKA BOOK FAIR
DESCRIPTION:
URL:https://stbeslagos.org/event/st-bernadette-school-akoka-book-fair
LOCATION:St. Bernadette School Akoka\, 73\, Community Road Pako B/Stop\, Akoka\, Lagos\, Nigeria
CATEGORIES:School Event
ORGANIZER;CN="St. Bernadette School Akoka":MAILTO:sbs.akoka@stbes.org
END:VEVENT
BEGIN:VEVENT
DTSTART;VALUE=DATE:20180508
DTEND;VALUE=DATE:20180509
DTSTAMP:20260419T131955
CREATED:20210305T093203Z
LAST-MODIFIED:20210305T093203Z
UID:4209-1525737600-1525823999@stbeslagos.org
SUMMARY:UNIFIED TEST
DESCRIPTION:
URL:https://stbeslagos.org/event/unified-test
LOCATION:Doregos Private Academy\, Bernadino Doregos Street Off BO/BQ Street\, FHA Estate\, Akinogun\, Ipaja\, Lagos\, Nigeria
CATEGORIES:School Event
ORGANIZER;CN="Doregos Private Academy":MAILTO:dpa@stbes.org
END:VEVENT
BEGIN:VEVENT
DTSTART;VALUE=DATE:20180504
DTEND;VALUE=DATE:20180505
DTSTAMP:20260419T131955
CREATED:20210305T093204Z
LAST-MODIFIED:20210305T093204Z
UID:4210-1525392000-1525478399@stbeslagos.org
SUMMARY:DOREGOS PRIVATE ACADEMY THIRD ENTRANCE EXAM
DESCRIPTION:
URL:https://stbeslagos.org/event/doregos-private-academy-third-entrance-exam
LOCATION:Doregos Private Academy\, Bernadino Doregos Street Off BO/BQ Street\, FHA Estate\, Akinogun\, Ipaja\, Lagos\, Nigeria
CATEGORIES:School Event
ORGANIZER;CN="Doregos Private Academy":MAILTO:dpa@stbes.org
END:VEVENT
BEGIN:VEVENT
DTSTART;VALUE=DATE:20180502
DTEND;VALUE=DATE:20180503
DTSTAMP:20260419T131955
CREATED:20210305T093204Z
LAST-MODIFIED:20210305T093204Z
UID:4211-1525219200-1525305599@stbeslagos.org
SUMMARY:DOREGOS PRIVATE ACADEMY COUNSELLING DAY
DESCRIPTION:
URL:https://stbeslagos.org/event/doregos-private-academy-counselling-day
LOCATION:Doregos Private Academy\, Bernadino Doregos Street Off BO/BQ Street\, FHA Estate\, Akinogun\, Ipaja\, Lagos\, Nigeria
CATEGORIES:School Event
ORGANIZER;CN="Doregos Private Academy":MAILTO:dpa@stbes.org
END:VEVENT
BEGIN:VEVENT
DTSTART;VALUE=DATE:20180427
DTEND;VALUE=DATE:20180428
DTSTAMP:20260419T131955
CREATED:20210305T093133Z
LAST-MODIFIED:20210305T093133Z
UID:4200-1524787200-1524873599@stbeslagos.org
SUMMARY:ST BERNADETTE SCHOOLS DEWORMING DAY
DESCRIPTION:
URL:https://stbeslagos.org/event/st-bernadette-schools-deworming-day
LOCATION:St. Bernadette School Ipaja\, 3rd Avenue\, 32 Road Gowon Estate\, Ipaja\, Lagos\, Nigeria
CATEGORIES:School Event
ORGANIZER;CN="St. Bernadette School Ipaja":MAILTO:contact@stbes.org
END:VEVENT
BEGIN:VEVENT
DTSTART;VALUE=DATE:20180425
DTEND;VALUE=DATE:20180426
DTSTAMP:20260419T131955
CREATED:20210305T093134Z
LAST-MODIFIED:20210305T093134Z
UID:4201-1524614400-1524700799@stbeslagos.org
SUMMARY:DOREGOS PRIVATE ACADEMY VOCATIONAL DAY
DESCRIPTION:
URL:https://stbeslagos.org/event/doregos-private-academy-vocational-day
LOCATION:Doregos Private Academy\, Bernadino Doregos Street Off BO/BQ Street\, FHA Estate\, Akinogun\, Ipaja\, Lagos\, Nigeria
CATEGORIES:School Event
ORGANIZER;CN="Doregos Private Academy":MAILTO:dpa@stbes.org
END:VEVENT
BEGIN:VEVENT
DTSTART;VALUE=DATE:20180418
DTEND;VALUE=DATE:20180419
DTSTAMP:20260419T131955
CREATED:20210305T093134Z
LAST-MODIFIED:20210305T093134Z
UID:4202-1524009600-1524095999@stbeslagos.org
SUMMARY:DOREGOS PRIVATE ACADEMY SPORTS
DESCRIPTION:
URL:https://stbeslagos.org/event/doregos-private-academy-sports
LOCATION:Doregos Private Academy\, Bernadino Doregos Street Off BO/BQ Street\, FHA Estate\, Akinogun\, Ipaja\, Lagos\, Nigeria
CATEGORIES:School Event
ORGANIZER;CN="Doregos Private Academy":MAILTO:dpa@stbes.org
END:VEVENT
BEGIN:VEVENT
DTSTART;VALUE=DATE:20180416
DTEND;VALUE=DATE:20180417
DTSTAMP:20260419T131955
CREATED:20210305T093148Z
LAST-MODIFIED:20210305T093148Z
UID:4203-1523836800-1523923199@stbeslagos.org
SUMMARY:STUDENTS RESUMPTION
DESCRIPTION:
URL:https://stbeslagos.org/event/students-resumption
LOCATION:Doregos Private Academy\, Bernadino Doregos Street Off BO/BQ Street\, FHA Estate\, Akinogun\, Ipaja\, Lagos\, Nigeria
CATEGORIES:School Event
ORGANIZER;CN="Doregos Private Academy":MAILTO:dpa@stbes.org
END:VEVENT
BEGIN:VEVENT
DTSTART;VALUE=DATE:20180415
DTEND;VALUE=DATE:20180416
DTSTAMP:20260419T131955
CREATED:20210305T093148Z
LAST-MODIFIED:20210305T093148Z
UID:4204-1523750400-1523836799@stbeslagos.org
SUMMARY:BOARDERS RESUMPTION
DESCRIPTION:
URL:https://stbeslagos.org/event/boarders-resumption
LOCATION:Doregos Private Academy\, Bernadino Doregos Street Off BO/BQ Street\, FHA Estate\, Akinogun\, Ipaja\, Lagos\, Nigeria
CATEGORIES:School Event
ORGANIZER;CN="Doregos Private Academy":MAILTO:dpa@stbes.org
END:VEVENT
BEGIN:VEVENT
DTSTART;VALUE=DATE:20180413
DTEND;VALUE=DATE:20180414
DTSTAMP:20260419T131955
CREATED:20210305T093148Z
LAST-MODIFIED:20210305T093148Z
UID:4205-1523577600-1523663999@stbeslagos.org
SUMMARY:DOREGOS PRIVATE ACADEMY 2ND ENTRANCE EXAMINATION.
DESCRIPTION:
URL:https://stbeslagos.org/event/doregos-private-academy-2nd-entrance-examination
LOCATION:Doregos Private Academy\, Bernadino Doregos Street Off BO/BQ Street\, FHA Estate\, Akinogun\, Ipaja\, Lagos\, Nigeria
CATEGORIES:School Event
ORGANIZER;CN="Doregos Private Academy":MAILTO:dpa@stbes.org
END:VEVENT
BEGIN:VEVENT
DTSTART;VALUE=DATE:20180329
DTEND;VALUE=DATE:20180330
DTSTAMP:20260419T131955
CREATED:20210305T093118Z
LAST-MODIFIED:20210305T093118Z
UID:4194-1522281600-1522367999@stbeslagos.org
SUMMARY:VACATION
DESCRIPTION:
URL:https://stbeslagos.org/event/vacation-5
LOCATION:Lagos
CATEGORIES:School Event
END:VEVENT
BEGIN:VEVENT
DTSTART;VALUE=DATE:20180317
DTEND;VALUE=DATE:20180318
DTSTAMP:20260419T131955
CREATED:20210305T093119Z
LAST-MODIFIED:20210305T093119Z
UID:4195-1521244800-1521331199@stbeslagos.org
SUMMARY:GENERAL PARENTS WORKSHOP
DESCRIPTION:
URL:https://stbeslagos.org/event/general-parents-workshop
LOCATION:St. Bernadette School Ipaja\, 3rd Avenue\, 32 Road Gowon Estate\, Ipaja\, Lagos\, Nigeria
CATEGORIES:School Event
ORGANIZER;CN="St. Bernadette School Ipaja":MAILTO:contact@stbes.org
END:VEVENT
BEGIN:VEVENT
DTSTART;VALUE=DATE:20180314
DTEND;VALUE=DATE:20180315
DTSTAMP:20260419T131955
CREATED:20210305T093119Z
LAST-MODIFIED:20210305T093119Z
UID:4196-1520985600-1521071999@stbeslagos.org
SUMMARY:DOREGOS PRIVATE ACADEMY 2ND TERM EXAMINATION STARTS
DESCRIPTION:
URL:https://stbeslagos.org/event/doregos-private-academy-2nd-term-examination-starts
LOCATION:Doregos Private Academy\, Bernadino Doregos Street Off BO/BQ Street\, FHA Estate\, Akinogun\, Ipaja\, Lagos\, Nigeria
CATEGORIES:School Event
ORGANIZER;CN="Doregos Private Academy":MAILTO:dpa@stbes.org
END:VEVENT
BEGIN:VEVENT
DTSTART;VALUE=DATE:20180312
DTEND;VALUE=DATE:20180313
DTSTAMP:20260419T131955
CREATED:20210305T093120Z
LAST-MODIFIED:20210305T093120Z
UID:4197-1520812800-1520899199@stbeslagos.org
SUMMARY:ST BERNADETTE SCHOOL 2ND TERM EXAMINATION STARTS
DESCRIPTION:
URL:https://stbeslagos.org/event/st-bernadette-school-2nd-term-examination-starts
LOCATION:St. Bernadette School Ipaja\, 3rd Avenue\, 32 Road Gowon Estate\, Ipaja\, Lagos\, Nigeria
CATEGORIES:School Event
ORGANIZER;CN="St. Bernadette School Ipaja":MAILTO:contact@stbes.org
END:VEVENT
BEGIN:VEVENT
DTSTART;VALUE=DATE:20180307
DTEND;VALUE=DATE:20180308
DTSTAMP:20260419T131955
CREATED:20210305T093133Z
LAST-MODIFIED:20210305T093133Z
UID:4198-1520380800-1520467199@stbeslagos.org
SUMMARY:Sports
DESCRIPTION:
URL:https://stbeslagos.org/event/sports
LOCATION:Doregos Private Academy\, Bernadino Doregos Street Off BO/BQ Street\, FHA Estate\, Akinogun\, Ipaja\, Lagos\, Nigeria
CATEGORIES:School Event
ORGANIZER;CN="Doregos Private Academy":MAILTO:dpa@stbes.org
END:VEVENT
BEGIN:VEVENT
DTSTART;VALUE=DATE:20180302
DTEND;VALUE=DATE:20180303
DTSTAMP:20260419T131955
CREATED:20210305T093133Z
LAST-MODIFIED:20210305T093133Z
UID:4199-1519948800-1520035199@stbeslagos.org
SUMMARY:WORLD BOOK DAY
DESCRIPTION:
URL:https://stbeslagos.org/event/world-book-day
LOCATION:St. Bernadette School Ipaja\, 3rd Avenue\, 32 Road Gowon Estate\, Ipaja\, Lagos\, Nigeria
CATEGORIES:School Event
ORGANIZER;CN="St. Bernadette School Ipaja":MAILTO:contact@stbes.org
END:VEVENT
BEGIN:VEVENT
DTSTART;VALUE=DATE:20180212
DTEND;VALUE=DATE:20180213
DTSTAMP:20260419T131955
CREATED:20210305T093049Z
LAST-MODIFIED:20210305T093103Z
UID:4187-1518393600-1518479999@stbeslagos.org
SUMMARY:St Bernadette Schools Feast Day
DESCRIPTION:
URL:https://stbeslagos.org/event/st-bernadette-schools-feast-day
LOCATION:St. Bernadette School Ipaja\, 3rd Avenue\, 32 Road Gowon Estate\, Ipaja\, Lagos\, Nigeria
CATEGORIES:School Event
ORGANIZER;CN="St. Bernadette School Ipaja":MAILTO:contact@stbes.org
END:VEVENT
BEGIN:VEVENT
DTSTART;VALUE=DATE:20180210
DTEND;VALUE=DATE:20180211
DTSTAMP:20260419T131955
CREATED:20210305T093103Z
LAST-MODIFIED:20210305T093103Z
UID:4189-1518220800-1518307199@stbeslagos.org
SUMMARY:Prize and Speech Making Day
DESCRIPTION:
URL:https://stbeslagos.org/event/prize-and-speech-making-day
LOCATION:Doregos Private Academy\, Bernadino Doregos Street Off BO/BQ Street\, FHA Estate\, Akinogun\, Ipaja\, Lagos\, Nigeria
CATEGORIES:School Event
ORGANIZER;CN="Doregos Private Academy":MAILTO:dpa@stbes.org
END:VEVENT
BEGIN:VEVENT
DTSTART;VALUE=DATE:20180210
DTEND;VALUE=DATE:20180211
DTSTAMP:20260419T131955
CREATED:20210305T093049Z
LAST-MODIFIED:20210305T093049Z
UID:4186-1518220800-1518307199@stbeslagos.org
SUMMARY:Doregos Private Academy Prize and Speech Giving Day
DESCRIPTION:
URL:https://stbeslagos.org/event/doregos-private-academy-prize-and-speech-giving-day
LOCATION:Doregos Private Academy\, Bernadino Doregos Street Off BO/BQ Street\, FHA Estate\, Akinogun\, Ipaja\, Lagos\, Nigeria
CATEGORIES:School Event
ORGANIZER;CN="Doregos Private Academy":MAILTO:dpa@stbes.org
END:VEVENT
BEGIN:VEVENT
DTSTART;VALUE=DATE:20180208
DTEND;VALUE=DATE:20180209
DTSTAMP:20260419T131955
CREATED:20210305T093103Z
LAST-MODIFIED:20210305T093103Z
UID:4190-1518048000-1518134399@stbeslagos.org
SUMMARY:Doregos Private Academy Basketball Finals
DESCRIPTION:
URL:https://stbeslagos.org/event/doregos-private-academy-basketball-finals
LOCATION:Doregos Private Academy\, Bernadino Doregos Street Off BO/BQ Street\, FHA Estate\, Akinogun\, Ipaja\, Lagos\, Nigeria
CATEGORIES:School Event
ORGANIZER;CN="Doregos Private Academy":MAILTO:dpa@stbes.org
END:VEVENT
BEGIN:VEVENT
DTSTART;VALUE=DATE:20180208
DTEND;VALUE=DATE:20180209
DTSTAMP:20260419T131955
CREATED:20210305T093048Z
LAST-MODIFIED:20210305T093048Z
UID:4185-1518048000-1518134399@stbeslagos.org
SUMMARY:Doregos Private Academy Basket Ball Finals
DESCRIPTION:
URL:https://stbeslagos.org/event/doregos-private-academy-basket-ball-finals
LOCATION:Doregos Private Academy\, Bernadino Doregos Street Off BO/BQ Street\, FHA Estate\, Akinogun\, Ipaja\, Lagos\, Nigeria
CATEGORIES:School Event
ORGANIZER;CN="Doregos Private Academy":MAILTO:dpa@stbes.org
END:VEVENT
END:VCALENDAR